BEGIN:VCALENDAR
VERSION:2.0
PRODID:-//104.152.168.27//NONSGML kigkonsult.se iCalcreator 2.20//
CALSCALE:GREGORIAN
METHOD:PUBLISH
X-WR-TIMEZONE:Asia/Tokyo
BEGIN:VEVENT
UID:event4477@Tokyo Gig Guide
DTSTAMP:20260419T175035Z
CATEGORIES:Improvised
DESCRIPTION:Yokohama Impro Musica Fes - Spring 2011\nCategory: Improvised\n
 Link: https://www.tokyogigguide.com/index.php?option=com_jem&view=event&id
 =4477:yokohama-impro-musica-fes-spring-2011&Itemid=1094\n
DTSTART:20110505T190000
DTEND:20110505T190000
LOCATION:Airegin\,5-60 Sumiyoshi-cho\, Naka-ku\, Yokohama\, Kanagawa\,Yokoh
 ama
SUMMARY:Yokohama Impro Musica Fes - Spring 2011
URL:https://www.tokyogigguide.com/index.php?option=com_jem&view=event&id=44
 77:yokohama-impro-musica-fes-spring-2011&Itemid=1094
END:VEVENT
END:VCALENDAR
