BEGIN:VCALENDAR
VERSION:2.0
PRODID:-//104.152.168.27//NONSGML kigkonsult.se iCalcreator 2.20//
CALSCALE:GREGORIAN
METHOD:PUBLISH
X-WR-TIMEZONE:Asia/Tokyo
BEGIN:VEVENT
UID:event4457@Tokyo Gig Guide
DTSTAMP:20260421T014216Z
CATEGORIES:Indie-Rock
DESCRIPTION:Sunset Drive\, Bo-Peep\, Icon Girl Pistols\, DJ Andy MacKinlay
 \nCategory: Indie-Rock\nLink: https://www.tokyogigguide.com/index.php?opti
 on=com_jem&view=event&id=4457:live-gig-sunset-drive-bo-peep-icon-girl-pist
 ols-dj-andy-mackinlay&Itemid=1094\n
DTSTART:20110409T193000
DTEND:20110409T193000
LOCATION:Ruby Room\,2F Kasumi Bldg\, Dogenzaka 2-25-17\, Shibuya\,Shibuya
SUMMARY:Sunset Drive\, Bo-Peep\, Icon Girl Pistols\, DJ Andy MacKinlay
URL:https://www.tokyogigguide.com/index.php?option=com_jem&view=event&id=44
 57:live-gig-sunset-drive-bo-peep-icon-girl-pistols-dj-andy-mackinlay&Itemi
 d=1094
END:VEVENT
END:VCALENDAR
