BEGIN:VCALENDAR
VERSION:2.0
PRODID:-//104.152.168.27//NONSGML kigkonsult.se iCalcreator 2.20//
CALSCALE:GREGORIAN
METHOD:PUBLISH
X-WR-TIMEZONE:Asia/Tokyo
BEGIN:VEVENT
UID:event4428@Tokyo Gig Guide
DTSTAMP:20260420T173056Z
CATEGORIES:Mixed Genre
DESCRIPTION:Bad Noise! Feat. Pop Chocolat\, Zarigani$ + Miila & The Geeks\n
 Category: Mixed Genre\nLink: https://www.tokyogigguide.com/index.php?optio
 n=com_jem&view=event&id=4428:bad-noise-feat-pop-chocolat-zarigani--miila-a
 -the-geeks&Itemid=1094\n
DTSTART:20110423T193000
DTEND:20110423T193000
LOCATION:Ruby Room\,2F Kasumi Bldg\, Dogenzaka 2-25-17\, Shibuya\,Shibuya
SUMMARY:Bad Noise! Feat. Pop Chocolat\, Zarigani$ + Miila & The Geeks
URL:https://www.tokyogigguide.com/index.php?option=com_jem&view=event&id=44
 28:bad-noise-feat-pop-chocolat-zarigani--miila-a-the-geeks&Itemid=1094
END:VEVENT
END:VCALENDAR
