BEGIN:VCALENDAR
VERSION:2.0
PRODID:-//104.152.168.27//NONSGML kigkonsult.se iCalcreator 2.20//
CALSCALE:GREGORIAN
METHOD:PUBLISH
X-WR-TIMEZONE:Asia/Tokyo
BEGIN:VEVENT
UID:event4334@Tokyo Gig Guide
DTSTAMP:20260421T050844Z
CATEGORIES:Garage Rock
DESCRIPTION:ATOMIC SUPLEX (UK)\, EDDIE LEGEND STORY\, THEEE BAT\, RAT HOLIC
 \, ANDROID BEACH PARTY\nCategory: Garage Rock\nLink: https://www.tokyogigg
 uide.com/index.php?option=com_jem&view=event&id=4334:atomic-suplex-uk-eddi
 e-legend-story-theee-bat-rat-holic-android-beach-party&Itemid=1094\n
DTSTART:20110402T180000
DTEND:20110402T180000
LOCATION:Heavy Sick\,Nishihara 2-27-4 B1\, Shibuya-ku\,Hatagaya
SUMMARY:ATOMIC SUPLEX (UK)\, EDDIE LEGEND STORY\, THEEE BAT\, RAT HOLIC\, A
 NDROID BEACH PARTY
URL:https://www.tokyogigguide.com/index.php?option=com_jem&view=event&id=43
 34:atomic-suplex-uk-eddie-legend-story-theee-bat-rat-holic-android-beach-p
 arty&Itemid=1094
END:VEVENT
END:VCALENDAR
