BEGIN:VCALENDAR
VERSION:2.0
PRODID:-//104.152.168.27//NONSGML kigkonsult.se iCalcreator 2.20//
CALSCALE:GREGORIAN
METHOD:PUBLISH
X-WR-TIMEZONE:Asia/Tokyo
BEGIN:VEVENT
UID:event4204@Tokyo Gig Guide
DTSTAMP:20260425T125238Z
CATEGORIES:Rock
DESCRIPTION:BEADY EYE\nCategory: Rock\nLink: https://www.tokyogigguide.com/
 index.php?option=com_jem&view=event&id=4204:beady-eye&Itemid=1094\n
DTSTART:20110512T180000
DTEND:20110512T180000
LOCATION:Zepp Tokyo\,Palette Town\, 1 Aomi\, Koto-ku\, Tokyo\,Aomi
SUMMARY:BEADY EYE
URL:https://www.tokyogigguide.com/index.php?option=com_jem&view=event&id=42
 04:beady-eye&Itemid=1094
END:VEVENT
END:VCALENDAR
