BEGIN:VCALENDAR
VERSION:2.0
PRODID:-//104.152.168.27//NONSGML kigkonsult.se iCalcreator 2.20//
CALSCALE:GREGORIAN
METHOD:PUBLISH
X-WR-TIMEZONE:Asia/Tokyo
BEGIN:VEVENT
UID:event40719@Tokyo Gig Guide
DTSTAMP:20260421T123708Z
CATEGORIES:Avant garde\, Experimental\, Free Jazz\, Improvised
DESCRIPTION:'IMPROVISALCHEMIST' Daisuke Okuzumi\, Michio Karimata\, Kensuke
  Nagano\, Yumiko Yoshimoto\, Joshua Fuji\, Morihiro Takeshi\nCategory: Ava
 nt garde\, Experimental\, Free Jazz\, Improvised\nLink: https://www.tokyog
 igguide.com/index.php?option=com_jem&view=event&id=40719:improvisalchemist
 -daisuke-okuzumi-michio-karimata-kensuke-nagano-yumiko-yoshimoto-joshua-fu
 ji-morihiro-takeshi&Itemid=1094\n
DTSTART:20260530T160000
DTEND:20260530T160000
LOCATION:space o\,Sugizaki Bld. B1\, Chihaya 4-39-5\, Toshima-ku\,Senkawa
SUMMARY:'IMPROVISALCHEMIST' Daisuke Okuzumi\, Michio Karimata\, Kensuke Nag
 ano\, Yumiko Yoshimoto\, Joshua Fuji\, Morihiro Takeshi
URL:https://www.tokyogigguide.com/index.php?option=com_jem&view=event&id=40
 719:improvisalchemist-daisuke-okuzumi-michio-karimata-kensuke-nagano-yumik
 o-yoshimoto-joshua-fuji-morihiro-takeshi&Itemid=1094
END:VEVENT
END:VCALENDAR
