BEGIN:VCALENDAR
VERSION:2.0
PRODID:-//104.152.168.27//NONSGML kigkonsult.se iCalcreator 2.20//
CALSCALE:GREGORIAN
METHOD:PUBLISH
X-WR-TIMEZONE:Asia/Tokyo
BEGIN:VEVENT
UID:event40718@Tokyo Gig Guide
DTSTAMP:20260423T232135Z
CATEGORIES:Avant garde\, Electronic\, Experimental\, Improvised
DESCRIPTION:GUMI (Yumiko Yoshimoto\, CiXA)\, RT323 (kitsch hitori gakudan\,
  Yasushi Morikawa)\, Timeboin\, Janken Pon (Jake Morton etc)\nCategory: Av
 ant garde\, Electronic\, Experimental\, Improvised\nLink: https://www.toky
 ogigguide.com/index.php?option=com_jem&view=event&id=40718:gumi-yumiko-yos
 himoto-cixa-rt323-kitsch-hitori-gakudan-yasushi-morikawa-timeboin-janken-p
 on-jake-morton-etc&Itemid=1094\n
DTSTART:20260524T190000
DTEND:20260524T190000
LOCATION:Ten (天)\,Asagaya-kita 2-1-5 B1F\,Asagaya
SUMMARY:GUMI (Yumiko Yoshimoto\, CiXA)\, RT323 (kitsch hitori gakudan\, Yas
 ushi Morikawa)\, Timeboin\, Janken Pon (Jake Morton etc)
URL:https://www.tokyogigguide.com/index.php?option=com_jem&view=event&id=40
 718:gumi-yumiko-yoshimoto-cixa-rt323-kitsch-hitori-gakudan-yasushi-morikaw
 a-timeboin-janken-pon-jake-morton-etc&Itemid=1094
END:VEVENT
END:VCALENDAR
