BEGIN:VCALENDAR
VERSION:2.0
PRODID:-//104.152.168.27//NONSGML kigkonsult.se iCalcreator 2.20//
CALSCALE:GREGORIAN
METHOD:PUBLISH
X-WR-TIMEZONE:Asia/Tokyo
BEGIN:VEVENT
UID:event40717@Tokyo Gig Guide
DTSTAMP:20260422T083643Z
CATEGORIES:Avant garde\, Electro-Pop\, Experimental\, Folk\, Hardcore\, Imp
 rovised\, Mixed Genre\, Noise\, Performance
DESCRIPTION:'Onkyo Fuyu' poo [anego]\, Mayu Yamamoto\, kubobon\, Yumiko Yos
 himoto + Masashi Kamada\, Uchu Yamada\nCategory: Avant garde\, Electro-Pop
 \, Experimental\, Folk\, Hardcore\, Improvised\, Mixed Genre\, Noise\, Per
 formance\nLink: https://www.tokyogigguide.com/index.php?option=com_jem&vie
 w=event&id=40717:onkyo-fuyu-poo-anego-mayu-yamamoto-kubobon-yumiko-yoshimo
 to-masashi-kamada-uchu-yamada&Itemid=1094\n
DTSTART:20260517T154500
DTEND:20260517T154500
LOCATION:El Topito\,3F\, Matsugaecho 18-13\, Minamiku\, Sagamihara\,Odakyu-
 Sagamihara
SUMMARY:'Onkyo Fuyu' poo [anego]\, Mayu Yamamoto\, kubobon\, Yumiko Yoshimo
 to + Masashi Kamada\, Uchu Yamada
URL:https://www.tokyogigguide.com/index.php?option=com_jem&view=event&id=40
 717:onkyo-fuyu-poo-anego-mayu-yamamoto-kubobon-yumiko-yoshimoto-masashi-ka
 mada-uchu-yamada&Itemid=1094
END:VEVENT
END:VCALENDAR
