BEGIN:VCALENDAR
VERSION:2.0
PRODID:-//104.152.168.27//NONSGML kigkonsult.se iCalcreator 2.20//
CALSCALE:GREGORIAN
METHOD:PUBLISH
X-WR-TIMEZONE:Asia/Tokyo
BEGIN:VEVENT
UID:event40710@Tokyo Gig Guide
DTSTAMP:20260424T110650Z
CATEGORIES:Avant garde\, Free Jazz\, Hardcore\, Improvised\, Instrumental
DESCRIPTION:Kazuo Imai + Yoshinori Mochizuki + Masahiro Uemura\nCategory: A
 vant garde\, Free Jazz\, Hardcore\, Improvised\, Instrumental\nLink: https
 ://www.tokyogigguide.com/index.php?option=com_jem&view=event&id=40710:kazu
 o-imai-yoshinori-mochizuki-masahiro-uemura&Itemid=1094\n
DTSTART:20260603T190000
DTEND:20260603T190000
LOCATION:Earthdom\,Lisbon Bldg B1F\, 3-32-3 Okubo\, Shinjuku-ku\,Okubo
SUMMARY:Kazuo Imai + Yoshinori Mochizuki + Masahiro Uemura
URL:https://www.tokyogigguide.com/index.php?option=com_jem&view=event&id=40
 710:kazuo-imai-yoshinori-mochizuki-masahiro-uemura&Itemid=1094
END:VEVENT
END:VCALENDAR
