BEGIN:VCALENDAR
VERSION:2.0
PRODID:-//104.152.168.27//NONSGML kigkonsult.se iCalcreator 2.20//
CALSCALE:GREGORIAN
METHOD:PUBLISH
X-WR-TIMEZONE:Asia/Tokyo
BEGIN:VEVENT
UID:event40704@Tokyo Gig Guide
DTSTAMP:20260423T222716Z
CATEGORIES:Alternative\, Dream-pop\, Emo\, Pop\, Shoegaze
DESCRIPTION:Strawberry Lust (CN)\, AOIBARA\, Mainichi Unique\, ghost girl i
 n my bed\, DJ 盧盧盧\nCategory: Alternative\, Dream-pop\, Emo\, Pop\, Shoegaz
 e\nLink: https://www.tokyogigguide.com/index.php?option=com_jem&view=event
 &id=40704:strawberry-lust-cn-aoibara-and-more&Itemid=1094\n
DTSTART:20260505T110000
DTEND:20260505T110000
LOCATION:Fever\,Shin-daita building 1F\, 1-1-14 Hanegi\, Setagaya-ku\,Shimo
 kitazawa
SUMMARY:Strawberry Lust (CN)\, AOIBARA\, Mainichi Unique\, ghost girl in my
  bed\, DJ 盧盧盧
URL:https://www.tokyogigguide.com/index.php?option=com_jem&view=event&id=40
 704:strawberry-lust-cn-aoibara-and-more&Itemid=1094
END:VEVENT
END:VCALENDAR
