BEGIN:VCALENDAR
VERSION:2.0
PRODID:-//104.152.168.27//NONSGML kigkonsult.se iCalcreator 2.20//
CALSCALE:GREGORIAN
METHOD:PUBLISH
X-WR-TIMEZONE:Asia/Tokyo
BEGIN:VEVENT
UID:event40682@Tokyo Gig Guide
DTSTAMP:20260419T214946Z
CATEGORIES:Free Jazz\, Jazz
DESCRIPTION:キュースガダイロー我楽(スガダイロー 服部正嗣 東保光 池澤龍作)\nCategory: Free Jazz\, Jazz\n
 Link: https://www.tokyogigguide.com/index.php?option=com_jem&view=event&id
 =40682:2026-04-18-13-15-29&Itemid=1094\n
DTSTART:20260427T184500
DTEND:20260427T184500
LOCATION:velvetsun\,Sunrize Bldg 1F\, 3-47-21 Ogikubo\, Suginami-ku\,Ogikub
 o
SUMMARY:キュースガダイロー我楽(スガダイロー 服部正嗣 東保光 池澤龍作)
URL:https://www.tokyogigguide.com/index.php?option=com_jem&view=event&id=40
 682:2026-04-18-13-15-29&Itemid=1094
END:VEVENT
END:VCALENDAR
