BEGIN:VCALENDAR
VERSION:2.0
PRODID:-//104.152.168.27//NONSGML kigkonsult.se iCalcreator 2.20//
CALSCALE:GREGORIAN
METHOD:PUBLISH
X-WR-TIMEZONE:Asia/Tokyo
BEGIN:VEVENT
UID:event40679@Tokyo Gig Guide
DTSTAMP:20260423T000508Z
CATEGORIES:Ambient\, Improvised
DESCRIPTION:Ryoji Orihara (織原良次)\nCategory: Ambient\, Improvised\nLink: htt
 ps://www.tokyogigguide.com/index.php?option=com_jem&view=event&id=40679:ba
 r-event-ryoji-orihara-bga-back-ground-ambient&Itemid=1094\n
DTSTART:20260421T190000
DTEND:20260421T190000
LOCATION:velvetsun\,Sunrize Bldg 1F\, 3-47-21 Ogikubo\, Suginami-ku\,Ogikub
 o
SUMMARY:Ryoji Orihara (織原良次)
URL:https://www.tokyogigguide.com/index.php?option=com_jem&view=event&id=40
 679:bar-event-ryoji-orihara-bga-back-ground-ambient&Itemid=1094
END:VEVENT
END:VCALENDAR
