BEGIN:VCALENDAR
VERSION:2.0
PRODID:-//104.152.168.27//NONSGML kigkonsult.se iCalcreator 2.20//
CALSCALE:GREGORIAN
METHOD:PUBLISH
X-WR-TIMEZONE:Asia/Tokyo
BEGIN:VEVENT
UID:event40666@Tokyo Gig Guide
DTSTAMP:20260419T133625Z
CATEGORIES:Fusion\, Instrumental\, Jazz\, Pop\, Progressive
DESCRIPTION:REIKA TRIO &  MUMU\nCategory: Fusion\, Instrumental\, Jazz\, Po
 p\, Progressive\nLink: https://www.tokyogigguide.com/index.php?option=com_
 jem&view=event&id=40666:reika-trio-mumu&Itemid=1094\n
DTSTART:20260630T190000
DTEND:20260630T190000
LOCATION:Manda-la 2\,2-8-6 Minami-cho\, Kichijoji\,Kichijoji
SUMMARY:REIKA TRIO &  MUMU
URL:https://www.tokyogigguide.com/index.php?option=com_jem&view=event&id=40
 666:reika-trio-mumu&Itemid=1094
END:VEVENT
END:VCALENDAR
