BEGIN:VCALENDAR
VERSION:2.0
PRODID:-//104.152.168.27//NONSGML kigkonsult.se iCalcreator 2.20//
CALSCALE:GREGORIAN
METHOD:PUBLISH
X-WR-TIMEZONE:Asia/Tokyo
BEGIN:VEVENT
UID:event40657@Tokyo Gig Guide
DTSTAMP:20260424T105916Z
CATEGORIES:Alternative
DESCRIPTION:Adachi Reizaburo (sax\, electronics)\, Mito [clammbon] (bass)\,
  Masanao Matsushita (drums)\nCategory: Alternative\nLink: https://www.toky
 ogigguide.com/index.php?option=com_jem&view=event&id=40657:adachi-reizabur
 o-sax-electronics-mito-clammbon-bass-masanao-matsushita-drums&Itemid=1094
 \n
DTSTART:20260428T190000
DTEND:20260428T190000
LOCATION:POLARIS\,6-2-10 Minami-Aoyama\, Minato-ku\, Tokyo\,Minami-Aoyama
SUMMARY:Adachi Reizaburo (sax\, electronics)\, Mito [clammbon] (bass)\, Mas
 anao Matsushita (drums)
URL:https://www.tokyogigguide.com/index.php?option=com_jem&view=event&id=40
 657:adachi-reizaburo-sax-electronics-mito-clammbon-bass-masanao-matsushita
 -drums&Itemid=1094
END:VEVENT
END:VCALENDAR
