BEGIN:VCALENDAR
VERSION:2.0
PRODID:-//104.152.168.27//NONSGML kigkonsult.se iCalcreator 2.20//
CALSCALE:GREGORIAN
METHOD:PUBLISH
X-WR-TIMEZONE:Asia/Tokyo
BEGIN:VEVENT
UID:event40656@Tokyo Gig Guide
DTSTAMP:20260421T214808Z
CATEGORIES:Alternative\, Krautrock\, Psychedelic
DESCRIPTION:Kota Maruyama [踊ってばかりの国] (guitar)\, Jin Okubo [踊ってばかりの国] (guita
 r)\nCategory: Alternative\, Krautrock\, Psychedelic\nLink: https://www.tok
 yogigguide.com/index.php?option=com_jem&view=event&id=40656:act-kota-maruy
 ama-guitar-jin-okubo-guitar&Itemid=1094\n
DTSTART:20260427T190000
DTEND:20260427T190000
LOCATION:POLARIS\,6-2-10 Minami-Aoyama\, Minato-ku\, Tokyo\,Minami-Aoyama
SUMMARY:Kota Maruyama [踊ってばかりの国] (guitar)\, Jin Okubo [踊ってばかりの国] (guitar)
URL:https://www.tokyogigguide.com/index.php?option=com_jem&view=event&id=40
 656:act-kota-maruyama-guitar-jin-okubo-guitar&Itemid=1094
END:VEVENT
END:VCALENDAR
