BEGIN:VCALENDAR
VERSION:2.0
PRODID:-//104.152.168.27//NONSGML kigkonsult.se iCalcreator 2.20//
CALSCALE:GREGORIAN
METHOD:PUBLISH
X-WR-TIMEZONE:Asia/Tokyo
BEGIN:VEVENT
UID:event40649@Tokyo Gig Guide
DTSTAMP:20260423T205744Z
CATEGORIES:Experimental\, Free Jazz\, Improvised\, Instrumental\, Psychedel
 ic
DESCRIPTION:CORUM (PSYCHIC SOUNDS\, US)\, WHITE GOURD (PSYCHIC SOUNDS\, US)
 \, 泰金夫 (島崎森哉 [帯化] + 苔苔 + 織川一\, ほか)\nCategory: Experimental\, Free Jazz\, I
 mprovised\, Instrumental\, Psychedelic\nLink: https://www.tokyogigguide.co
 m/index.php?option=com_jem&view=event&id=40649:corum-psychic-sounds-us-whi
 te-gourd-psychic-sounds-us&Itemid=1094\n
DTSTART:20260501T193000
DTEND:20260501T193000
LOCATION:Chitei\,Kita-Otsuka 1-14-6 B1\, Toshima-ku\, Tokyo\,Otsuka
SUMMARY:CORUM (PSYCHIC SOUNDS\, US)\, WHITE GOURD (PSYCHIC SOUNDS\, US)\, 泰
 金夫 (島崎森哉 [帯化] + 苔苔 + 織川一\, ほか)
URL:https://www.tokyogigguide.com/index.php?option=com_jem&view=event&id=40
 649:corum-psychic-sounds-us-white-gourd-psychic-sounds-us&Itemid=1094
END:VEVENT
END:VCALENDAR
