BEGIN:VCALENDAR
VERSION:2.0
PRODID:-//104.152.168.27//NONSGML kigkonsult.se iCalcreator 2.20//
CALSCALE:GREGORIAN
METHOD:PUBLISH
X-WR-TIMEZONE:Asia/Tokyo
BEGIN:VEVENT
UID:event40648@Tokyo Gig Guide
DTSTAMP:20260421T033619Z
CATEGORIES:Abstract\, Avant-pop\, Guitar Pop\, Instrumental\, Jazz
DESCRIPTION:Yukari Sekiya (piano) \, Shotaro Nozu (guitar)\, Hiroaki Mizuta
 ni (contrabass)\nCategory: Abstract\, Avant-pop\, Guitar Pop\, Instrumenta
 l\, Jazz\nLink: https://www.tokyogigguide.com/index.php?option=com_jem&vie
 w=event&id=40648:yukari-sekiya-piano-shotaro-nozu-guitar-hiroaki-mizutani-
 contrabass&Itemid=1094\n
DTSTART:20260418T190000
DTEND:20260418T190000
LOCATION:Sweet Rain\,Okada Bldg. B1\, 5-46-5　Nakano\, Nakano-ku\, Tokyo\,Na
 kano
SUMMARY:Yukari Sekiya (piano) \, Shotaro Nozu (guitar)\, Hiroaki Mizutani (
 contrabass)
URL:https://www.tokyogigguide.com/index.php?option=com_jem&view=event&id=40
 648:yukari-sekiya-piano-shotaro-nozu-guitar-hiroaki-mizutani-contrabass&It
 emid=1094
END:VEVENT
END:VCALENDAR
