BEGIN:VCALENDAR
VERSION:2.0
PRODID:-//104.152.168.27//NONSGML kigkonsult.se iCalcreator 2.20//
CALSCALE:GREGORIAN
METHOD:PUBLISH
X-WR-TIMEZONE:Asia/Tokyo
BEGIN:VEVENT
UID:event40646@Tokyo Gig Guide
DTSTAMP:20260419T150056Z
CATEGORIES:Improvised\, Jazz
DESCRIPTION:Rooftop Camels屋上駱駝＋按田佳央理 アルバムリリース記念関東ツアー\nCategory: Improvised\
 , Jazz\nLink: https://www.tokyogigguide.com/index.php?option=com_jem&view=
 event&id=40646:rooftop-camels&Itemid=1094\n
DTSTART:20260418T181500
DTEND:20260418T181500
LOCATION:velvetsun\,Sunrize Bldg 1F\, 3-47-21 Ogikubo\, Suginami-ku\,Ogikub
 o
SUMMARY:Rooftop Camels屋上駱駝＋按田佳央理 アルバムリリース記念関東ツアー
URL:https://www.tokyogigguide.com/index.php?option=com_jem&view=event&id=40
 646:rooftop-camels&Itemid=1094
END:VEVENT
END:VCALENDAR
