BEGIN:VCALENDAR
VERSION:2.0
PRODID:-//104.152.168.27//NONSGML kigkonsult.se iCalcreator 2.20//
CALSCALE:GREGORIAN
METHOD:PUBLISH
X-WR-TIMEZONE:Asia/Tokyo
BEGIN:VEVENT
UID:event40635@Tokyo Gig Guide
DTSTAMP:20260422T032916Z
CATEGORIES:Noise\, Hardcore\, Grindcore\, Electronic
DESCRIPTION:GOVERNMENT ALPHA MILORGANAUT (USA) RADIATION BLACKBODY (USA) LI
 KE WEEDS\nCategory: Noise\, Hardcore\, Grindcore\, Electronic\nLink: https
 ://www.tokyogigguide.com/index.php?option=com_jem&view=event&id=40635:gove
 rnment-alpha-milorganaut-usa-radiation-blackbody-usa-like-weeds&Itemid=109
 4\n
DTSTART:20260417T183000
DTEND:20260417T183000
LOCATION:Chitei\,Kita-Otsuka 1-14-6 B1\, Toshima-ku\, Tokyo\,Otsuka
SUMMARY:GOVERNMENT ALPHA MILORGANAUT (USA) RADIATION BLACKBODY (USA) LIKE W
 EEDS
URL:https://www.tokyogigguide.com/index.php?option=com_jem&view=event&id=40
 635:government-alpha-milorganaut-usa-radiation-blackbody-usa-like-weeds&It
 emid=1094
END:VEVENT
END:VCALENDAR
