BEGIN:VCALENDAR
VERSION:2.0
PRODID:-//104.152.168.27//NONSGML kigkonsult.se iCalcreator 2.20//
CALSCALE:GREGORIAN
METHOD:PUBLISH
X-WR-TIMEZONE:Asia/Tokyo
BEGIN:VEVENT
UID:event40626@Tokyo Gig Guide
DTSTAMP:20260425T190128Z
CATEGORIES:Jazz
DESCRIPTION:Yukari Sekiya（piano)\,Shoko Numao(vocal)\,Tetsuro Fujimaki(drum
 s)\,Masatake Abe(bass)\nCategory: Jazz\nLink: https://www.tokyogigguide.co
 m/index.php?option=com_jem&view=event&id=40626:yukari-sekiya-piano-shoko-n
 umao-vocal-tetsuro-fujimaki-drums-masatake-abe-bass&Itemid=1094\n
DTSTART:20260418T133000
DTEND:20260418T133000
LOCATION:Shichoshitsu (Jinbocho)\,3-8-5 Nishi Kanda\, Chiyodaku\, Tokyo\,Ji
 mbocho
SUMMARY:Yukari Sekiya（piano)\,Shoko Numao(vocal)\,Tetsuro Fujimaki(drums)\,
 Masatake Abe(bass)
URL:https://www.tokyogigguide.com/index.php?option=com_jem&view=event&id=40
 626:yukari-sekiya-piano-shoko-numao-vocal-tetsuro-fujimaki-drums-masatake-
 abe-bass&Itemid=1094
END:VEVENT
END:VCALENDAR
