BEGIN:VCALENDAR
VERSION:2.0
PRODID:-//104.152.168.27//NONSGML kigkonsult.se iCalcreator 2.20//
CALSCALE:GREGORIAN
METHOD:PUBLISH
X-WR-TIMEZONE:Asia/Tokyo
BEGIN:VEVENT
UID:event40616@Tokyo Gig Guide
DTSTAMP:20260422T185355Z
CATEGORIES:Abstract\, Avant garde\, Experimental\, Improvised
DESCRIPTION:Ryosuke Kiyasu snare drum solo\nCategory: Abstract\, Avant gard
 e\, Experimental\, Improvised\nLink: https://www.tokyogigguide.com/index.p
 hp?option=com_jem&view=event&id=40616:otooto10-ryosuke-kiyasu-snare-drum-s
 olo-show-in-tokyo-japan-1&Itemid=1094\n
DTSTART:20260418T190000
DTEND:20260418T190000
LOCATION:OTOOTO\,B1\, 3-13-10 Kitazawa\, Setagayaku\,Higashi Kitazawa
SUMMARY:Ryosuke Kiyasu snare drum solo
URL:https://www.tokyogigguide.com/index.php?option=com_jem&view=event&id=40
 616:otooto10-ryosuke-kiyasu-snare-drum-solo-show-in-tokyo-japan-1&Itemid=1
 094
END:VEVENT
END:VCALENDAR
