BEGIN:VCALENDAR
VERSION:2.0
PRODID:-//104.152.168.27//NONSGML kigkonsult.se iCalcreator 2.20//
CALSCALE:GREGORIAN
METHOD:PUBLISH
X-WR-TIMEZONE:Asia/Tokyo
BEGIN:VEVENT
UID:event40615@Tokyo Gig Guide
DTSTAMP:20260422T194226Z
CATEGORIES:Alternative\, Emo\, Indie\, Indie-Rock\, Shoegaze
DESCRIPTION:musbime\, サバノオミソニー\, Cull\, yoru no kakera\nCategory: Alternati
 ve\, Emo\, Indie\, Indie-Rock\, Shoegaze\nLink: https://www.tokyogigguide.
 com/index.php?option=com_jem&view=event&id=40615:musbime-cull-yoru-no-kake
 ra&Itemid=1094\n
DTSTART:20260524T173000
DTEND:20260524T173000
LOCATION:Nine Spices\,HANROKU Bldg B1\, Kabukicho 2-1-2\, Shinjuku-ku\,Shin
 juku
SUMMARY:musbime\, サバノオミソニー\, Cull\, yoru no kakera
URL:https://www.tokyogigguide.com/index.php?option=com_jem&view=event&id=40
 615:musbime-cull-yoru-no-kakera&Itemid=1094
END:VEVENT
END:VCALENDAR
