BEGIN:VCALENDAR
VERSION:2.0
PRODID:-//104.152.168.27//NONSGML kigkonsult.se iCalcreator 2.20//
CALSCALE:GREGORIAN
METHOD:PUBLISH
X-WR-TIMEZONE:Asia/Tokyo
BEGIN:VEVENT
UID:event40611@Tokyo Gig Guide
DTSTAMP:20260422T142552Z
CATEGORIES:Ambient\, Avant garde\, Experimental\, Grindcore\, Improvised
DESCRIPTION:Meadow x eifone\, Poo (Aneko)\, Big Joe\, Yugo Osumi\nCategory:
  Ambient\, Avant garde\, Experimental\, Grindcore\, Improvised\nLink: http
 s://www.tokyogigguide.com/index.php?option=com_jem&view=event&id=40611:liv
 e-meadow-x-eifone-poo-aneko-big-joe-yugo-osumi&Itemid=1094\n
DTSTART:20260513T190000
DTEND:20260513T190000
LOCATION:Oriental Force\,#8 Nitto Build. B1\, Koenji-Minami 3-38-6\,Koenji
SUMMARY:Meadow x eifone\, Poo (Aneko)\, Big Joe\, Yugo Osumi
URL:https://www.tokyogigguide.com/index.php?option=com_jem&view=event&id=40
 611:live-meadow-x-eifone-poo-aneko-big-joe-yugo-osumi&Itemid=1094
END:VEVENT
END:VCALENDAR
