BEGIN:VCALENDAR
VERSION:2.0
PRODID:-//104.152.168.27//NONSGML kigkonsult.se iCalcreator 2.20//
CALSCALE:GREGORIAN
METHOD:PUBLISH
X-WR-TIMEZONE:Asia/Tokyo
BEGIN:VEVENT
UID:event40610@Tokyo Gig Guide
DTSTAMP:20260425T000148Z
CATEGORIES:Alternative\, Electro\, Experimental\, Improvised\, Industrial
DESCRIPTION:Taco (Harumi Yamazaki\, Jun Morita\, Atsuhiro Ito)\, Osorezan β
  (Tamotsu Mochida\, DJ TKD)\, IoT\nCategory: Alternative\, Electro\, Exper
 imental\, Improvised\, Industrial\nLink: https://www.tokyogigguide.com/ind
 ex.php?option=com_jem&view=event&id=40610:live-taco-harumi-yamazaki-jun-mo
 rita-atsuhiro-ito-osorezan-tamotsu-mochida-dj-tkd-iot&Itemid=1094\n
DTSTART:20260521T183000
DTEND:20260521T183000
LOCATION:Oriental Force\,#8 Nitto Build. B1\, Koenji-Minami 3-38-6\,Koenji
SUMMARY:Taco (Harumi Yamazaki\, Jun Morita\, Atsuhiro Ito)\, Osorezan β (Ta
 motsu Mochida\, DJ TKD)\, IoT
URL:https://www.tokyogigguide.com/index.php?option=com_jem&view=event&id=40
 610:live-taco-harumi-yamazaki-jun-morita-atsuhiro-ito-osorezan-tamotsu-moc
 hida-dj-tkd-iot&Itemid=1094
END:VEVENT
END:VCALENDAR
