BEGIN:VCALENDAR
VERSION:2.0
PRODID:-//104.152.168.27//NONSGML kigkonsult.se iCalcreator 2.20//
CALSCALE:GREGORIAN
METHOD:PUBLISH
X-WR-TIMEZONE:Asia/Tokyo
BEGIN:VEVENT
UID:event40599@Tokyo Gig Guide
DTSTAMP:20260420T114048Z
CATEGORIES:Abstract\, Acoustic\, Avant garde\, Free Jazz\, Improvised
DESCRIPTION:Hans Koch\, Paed Conca and Kawol SamarQandi - solo\, duo\, trio
  improv at CAFE ETHICA\nCategory: Abstract\, Acoustic\, Avant garde\, Free
  Jazz\, Improvised\nLink: https://www.tokyogigguide.com/index.php?option=c
 om_jem&view=event&id=40599:hans-koch-paed-conca-and-kawol-samarqandi-solo-
 duo-trio-improv-at-cafe-ethica&Itemid=1094\n
DTSTART:20260517T183000
DTEND:20260517T183000
SUMMARY:Hans Koch\, Paed Conca and Kawol SamarQandi - solo\, duo\, trio imp
 rov at CAFE ETHICA
URL:https://www.tokyogigguide.com/index.php?option=com_jem&view=event&id=40
 599:hans-koch-paed-conca-and-kawol-samarqandi-solo-duo-trio-improv-at-cafe
 -ethica&Itemid=1094
END:VEVENT
END:VCALENDAR
