BEGIN:VCALENDAR
VERSION:2.0
PRODID:-//104.152.168.27//NONSGML kigkonsult.se iCalcreator 2.20//
CALSCALE:GREGORIAN
METHOD:PUBLISH
X-WR-TIMEZONE:Asia/Tokyo
BEGIN:VEVENT
UID:event40578@Tokyo Gig Guide
DTSTAMP:20260423T080544Z
CATEGORIES:Experimental\, Festival\, Improvised\, Noise\, Alternative
DESCRIPTION:GIGA NOISE: John Wise\, Lucas Abela\, Yoshimitsu Ichiraku\, Tos
 hiji Mikawa\, Tenko\, Tatsuya Yoshida\, Fuyuki Yamakawa\, more\nCategory: 
 Experimental\, Festival\, Improvised\, Noise\, Alternative\nLink: https://
 www.tokyogigguide.com/index.php?option=com_jem&view=event&id=40578:giga-no
 ise-john-wise-lucas-abela-yoshimitu-ichiraku-toshiji-mikawa-tenko-tatuya-y
 oshida-fuyuki-yamakawa-mituru-tabata&Itemid=1094\n
DTSTART:20260505T120000
DTEND:20260505T120000
LOCATION:Goodman\,A.S Building B1F\, 55\, Kanda-Sakumagashi\, Chiyodaku\,Ak
 ihabara
SUMMARY:GIGA NOISE: John Wise\, Lucas Abela\, Yoshimitsu Ichiraku\, Toshiji
  Mikawa\, Tenko\, Tatsuya Yoshida\, Fuyuki Yamakawa\, more
URL:https://www.tokyogigguide.com/index.php?option=com_jem&view=event&id=40
 578:giga-noise-john-wise-lucas-abela-yoshimitu-ichiraku-toshiji-mikawa-ten
 ko-tatuya-yoshida-fuyuki-yamakawa-mituru-tabata&Itemid=1094
END:VEVENT
END:VCALENDAR
