BEGIN:VCALENDAR
VERSION:2.0
PRODID:-//104.152.168.27//NONSGML kigkonsult.se iCalcreator 2.20//
CALSCALE:GREGORIAN
METHOD:PUBLISH
X-WR-TIMEZONE:Asia/Tokyo
BEGIN:VEVENT
UID:event40565@Tokyo Gig Guide
DTSTAMP:20260422T172921Z
CATEGORIES:Avant garde\, Experimental\, Improvised\, New Wave\, Noise
DESCRIPTION:K2 x Takashi Miyamoto x Kaori Komura (duo & trio)\, Formidous A
 cid (Naoto Ogawa x Risaripa)\nCategory: Avant garde\, Experimental\, Impro
 vised\, New Wave\, Noise\nLink: https://www.tokyogigguide.com/index.php?op
 tion=com_jem&view=event&id=40565:live-k2-x-takashi-miyamoto-x-kaori-komura
 -duo-trio-formidous-acid-naoto-ogawa-x-risaripa&Itemid=1094\n
DTSTART:20260504T180000
DTEND:20260504T180000
LOCATION:Oriental Force\,#8 Nitto Build. B1\, Koenji-Minami 3-38-6\,Koenji
SUMMARY:K2 x Takashi Miyamoto x Kaori Komura (duo & trio)\, Formidous Acid 
 (Naoto Ogawa x Risaripa)
URL:https://www.tokyogigguide.com/index.php?option=com_jem&view=event&id=40
 565:live-k2-x-takashi-miyamoto-x-kaori-komura-duo-trio-formidous-acid-naot
 o-ogawa-x-risaripa&Itemid=1094
END:VEVENT
END:VCALENDAR
