BEGIN:VCALENDAR
VERSION:2.0
PRODID:-//104.152.168.27//NONSGML kigkonsult.se iCalcreator 2.20//
CALSCALE:GREGORIAN
METHOD:PUBLISH
X-WR-TIMEZONE:Asia/Tokyo
BEGIN:VEVENT
UID:event40553@Tokyo Gig Guide
DTSTAMP:20260422T214554Z
CATEGORIES:Acoustic\, Alternative
DESCRIPTION:TAKAZUMI YAMAJI\, KENTA TAKEDA\nCategory: Acoustic\, Alternativ
 e\nLink: https://www.tokyogigguide.com/index.php?option=com_jem&view=event
 &id=40553:takazumi-yamaji-kenta-takeda&Itemid=1094\n
DTSTART:20260422T190000
DTEND:20260422T190000
LOCATION:Stax Fred\,Maruyama House B1F\, 1-7-1 Umesato\, Suginami-ku\,Shin-
 Koenji
SUMMARY:TAKAZUMI YAMAJI\, KENTA TAKEDA
URL:https://www.tokyogigguide.com/index.php?option=com_jem&view=event&id=40
 553:takazumi-yamaji-kenta-takeda&Itemid=1094
END:VEVENT
END:VCALENDAR
