BEGIN:VCALENDAR
VERSION:2.0
PRODID:-//104.152.168.27//NONSGML kigkonsult.se iCalcreator 2.20//
CALSCALE:GREGORIAN
METHOD:PUBLISH
X-WR-TIMEZONE:Asia/Tokyo
BEGIN:VEVENT
UID:event40536@Tokyo Gig Guide
DTSTAMP:20260419T173424Z
CATEGORIES:Experimental\, Improvised
DESCRIPTION:Seijiro Murayama\, Yuma Takeshita\nCategory: Experimental\, Imp
 rovised\nLink: https://www.tokyogigguide.com/index.php?option=com_jem&view
 =event&id=40536:seijiro-murayama-yuma-takeshita&Itemid=1094\n
DTSTART:20260430T193000
DTEND:20260430T193000
LOCATION:Bar Isshee\,3-36-11-B1\, Sendagi\, Bunkyo-ku\,Sendagi
SUMMARY:Seijiro Murayama\, Yuma Takeshita
URL:https://www.tokyogigguide.com/index.php?option=com_jem&view=event&id=40
 536:seijiro-murayama-yuma-takeshita&Itemid=1094
END:VEVENT
END:VCALENDAR
