BEGIN:VCALENDAR
VERSION:2.0
PRODID:-//104.152.168.27//NONSGML kigkonsult.se iCalcreator 2.20//
CALSCALE:GREGORIAN
METHOD:PUBLISH
X-WR-TIMEZONE:Asia/Tokyo
BEGIN:VEVENT
UID:event40534@Tokyo Gig Guide
DTSTAMP:20260423T195756Z
CATEGORIES:Experimental\, Improvised
DESCRIPTION:Tumo (Yuma Takeshita\, Yuji Ishihara) with Christoven Tan\nCate
 gory: Experimental\, Improvised\nLink: https://www.tokyogigguide.com/index
 .php?option=com_jem&view=event&id=40534:tumo-yuma-takeshita-yuji-ishihara-
 with-christoven-tan&Itemid=1094\n
DTSTART:20260425T193000
DTEND:20260425T193000
LOCATION:Bar Isshee\,3-36-11-B1\, Sendagi\, Bunkyo-ku\,Sendagi
SUMMARY:Tumo (Yuma Takeshita\, Yuji Ishihara) with Christoven Tan
URL:https://www.tokyogigguide.com/index.php?option=com_jem&view=event&id=40
 534:tumo-yuma-takeshita-yuji-ishihara-with-christoven-tan&Itemid=1094
END:VEVENT
END:VCALENDAR
