BEGIN:VCALENDAR
VERSION:2.0
PRODID:-//104.152.168.27//NONSGML kigkonsult.se iCalcreator 2.20//
CALSCALE:GREGORIAN
METHOD:PUBLISH
X-WR-TIMEZONE:Asia/Tokyo
BEGIN:VEVENT
UID:event40530@Tokyo Gig Guide
DTSTAMP:20260423T034415Z
CATEGORIES:Avant garde\, Fusion\, Jazz\, Rock
DESCRIPTION:Orbit (Natsuki Kido\, Jiro Okada\, Motonosuke Higuchi)\nCategor
 y: Avant garde\, Fusion\, Jazz\, Rock\nLink: https://www.tokyogigguide.com
 /index.php?option=com_jem&view=event&id=40530:orbit-natsuki-kido-jiro-okad
 a-motonosuke-higuchi&Itemid=1094\n
DTSTART:20260524T170000
DTEND:20260524T170000
LOCATION:Stormy Monday\,No.3 YACHI Bld 2F 1-3-3 Okina-Cho Naka-Ku Yokohama\
 ,Yokohama
SUMMARY:Orbit (Natsuki Kido\, Jiro Okada\, Motonosuke Higuchi)
URL:https://www.tokyogigguide.com/index.php?option=com_jem&view=event&id=40
 530:orbit-natsuki-kido-jiro-okada-motonosuke-higuchi&Itemid=1094
END:VEVENT
END:VCALENDAR
