BEGIN:VCALENDAR
VERSION:2.0
PRODID:-//104.152.168.27//NONSGML kigkonsult.se iCalcreator 2.20//
CALSCALE:GREGORIAN
METHOD:PUBLISH
X-WR-TIMEZONE:Asia/Tokyo
BEGIN:VEVENT
UID:event40522@Tokyo Gig Guide
DTSTAMP:20260419T115224Z
CATEGORIES:Avant garde\, Instrumental\, Progressive
DESCRIPTION:Era Special (Akihisa Tsuboi\, Natsuki Kido\, Hiroyuki Nanba\, K
 enji Sato\, Youichi Okabe)\nCategory: Avant garde\, Instrumental\, Progres
 sive\nLink: https://www.tokyogigguide.com/index.php?option=com_jem&view=ev
 ent&id=40522:era-special-akihisa-tsuboi-natsuki-kido-hiroyuki-nanba-kenji-
 sato-youichi-okabe&Itemid=1094\n
DTSTART:20260430T180000
DTEND:20260430T180000
LOCATION:Silver Elephant\,2-10-6 B1\, Kichijoji Honmachi\,Kichijoji
SUMMARY:Era Special (Akihisa Tsuboi\, Natsuki Kido\, Hiroyuki Nanba\, Kenji
  Sato\, Youichi Okabe)
URL:https://www.tokyogigguide.com/index.php?option=com_jem&view=event&id=40
 522:era-special-akihisa-tsuboi-natsuki-kido-hiroyuki-nanba-kenji-sato-youi
 chi-okabe&Itemid=1094
END:VEVENT
END:VCALENDAR
