BEGIN:VCALENDAR
VERSION:2.0
PRODID:-//104.152.168.27//NONSGML kigkonsult.se iCalcreator 2.20//
CALSCALE:GREGORIAN
METHOD:PUBLISH
X-WR-TIMEZONE:Asia/Tokyo
BEGIN:VEVENT
UID:event40513@Tokyo Gig Guide
DTSTAMP:20260424T021700Z
CATEGORIES:Death Metal\, Grindcore\, Hardcore\, Metal\, Punk
DESCRIPTION:GEKIKO FEST2026 (激昂祭2026): P.L.F\, CONTINUED WITHOUT A FINDING\
 , NECROPHILE\, SMALLPOX AROMA\, KANDER\, MASS-49\nCategory: Death Metal\, 
 Grindcore\, Hardcore\, Metal\, Punk\nLink: https://www.tokyogigguide.com/i
 ndex.php?option=com_jem&view=event&id=40513:p-l-f-continued-without-a-find
 ing-necrophile-smallpox-aroma-kander-mass-49&Itemid=1094\n
DTSTART:20260420T170000
DTEND:20260420T170000
LOCATION:El Puente\,B1 8-8 Nishihiranumacho\, Nishi-ku\, Yokohama\,Yokohama
SUMMARY:GEKIKO FEST2026 (激昂祭2026): P.L.F\, CONTINUED WITHOUT A FINDING\, NE
 CROPHILE\, SMALLPOX AROMA\, KANDER\, MASS-49
URL:https://www.tokyogigguide.com/index.php?option=com_jem&view=event&id=40
 513:p-l-f-continued-without-a-finding-necrophile-smallpox-aroma-kander-mas
 s-49&Itemid=1094
END:VEVENT
END:VCALENDAR
