BEGIN:VCALENDAR
VERSION:2.0
PRODID:-//104.152.168.27//NONSGML kigkonsult.se iCalcreator 2.20//
CALSCALE:GREGORIAN
METHOD:PUBLISH
X-WR-TIMEZONE:Asia/Tokyo
BEGIN:VEVENT
UID:event40512@Tokyo Gig Guide
DTSTAMP:20260420T195332Z
CATEGORIES:Death Metal\, Grindcore\, Hardcore\, Metal\, Punk
DESCRIPTION:GEKIKO FEST2026 (激昂祭2026): P.L.F\, 324\, BESTHOVEN\, CARCASS GR
 INDER\, CONTINUED WITHOUT A FINDING\, DIE YOU BASTARD!\, more\nCategory: D
 eath Metal\, Grindcore\, Hardcore\, Metal\, Punk\nLink: https://www.tokyog
 igguide.com/index.php?option=com_jem&view=event&id=40512:gekiko-fest2026-2
 026-p-l-f-324-besthoven-carcass-grinder-continued-without-a-finding-die-yo
 u-bastard-fuck-it-kandar&Itemid=1094\n
DTSTART:20260419T120000
DTEND:20260419T120000
LOCATION:Wild Side Tokyo\,B1\, 1-34-13 Shinjuku\, Shinjuku-ku\, Tokyo\,Shin
 juku
SUMMARY:GEKIKO FEST2026 (激昂祭2026): P.L.F\, 324\, BESTHOVEN\, CARCASS GRINDE
 R\, CONTINUED WITHOUT A FINDING\, DIE YOU BASTARD!\, more
URL:https://www.tokyogigguide.com/index.php?option=com_jem&view=event&id=40
 512:gekiko-fest2026-2026-p-l-f-324-besthoven-carcass-grinder-continued-wit
 hout-a-finding-die-you-bastard-fuck-it-kandar&Itemid=1094
END:VEVENT
END:VCALENDAR
