BEGIN:VCALENDAR
VERSION:2.0
PRODID:-//104.152.168.27//NONSGML kigkonsult.se iCalcreator 2.20//
CALSCALE:GREGORIAN
METHOD:PUBLISH
X-WR-TIMEZONE:Asia/Tokyo
BEGIN:VEVENT
UID:event40511@Tokyo Gig Guide
DTSTAMP:20260421T023358Z
CATEGORIES:Death Metal\, Festival\, Grindcore\, Hardcore\, Metal\, Punk
DESCRIPTION:GEKIKO FEST2026 (激昂祭2026): P.L.F\, GUDON\, LEECH\, MILORGANAUT\
 , PALM\, RAPES\, SMALLPOX AROMA\, SVDESTADA\, TARING\, ZONE\nCategory: Dea
 th Metal\, Festival\, Grindcore\, Hardcore\, Metal\, Punk\nLink: https://w
 ww.tokyogigguide.com/index.php?option=com_jem&view=event&id=40511:gekiko-f
 est2026-2026-p-l-f-gudon-leech-milorganaut-palm-rapes-smallpox-aroma-svdes
 tada-taring-zone&Itemid=1094\n
DTSTART:20260418T133000
DTEND:20260418T133000
LOCATION:Wild Side Tokyo\,B1\, 1-34-13 Shinjuku\, Shinjuku-ku\, Tokyo\,Shin
 juku
SUMMARY:GEKIKO FEST2026 (激昂祭2026): P.L.F\, GUDON\, LEECH\, MILORGANAUT\, PA
 LM\, RAPES\, SMALLPOX AROMA\, SVDESTADA\, TARING\, ZONE
URL:https://www.tokyogigguide.com/index.php?option=com_jem&view=event&id=40
 511:gekiko-fest2026-2026-p-l-f-gudon-leech-milorganaut-palm-rapes-smallpox
 -aroma-svdestada-taring-zone&Itemid=1094
END:VEVENT
END:VCALENDAR
