BEGIN:VCALENDAR
VERSION:2.0
PRODID:-//104.152.168.27//NONSGML kigkonsult.se iCalcreator 2.20//
CALSCALE:GREGORIAN
METHOD:PUBLISH
X-WR-TIMEZONE:Asia/Tokyo
BEGIN:VEVENT
UID:event40510@Tokyo Gig Guide
DTSTAMP:20260419T225714Z
CATEGORIES:Death Metal\, Grindcore\, Hardcore\, Metal\, Punk
DESCRIPTION:GEKIKO FEST2026 (激昂祭2026): Viscera Infest\, Slight Slappers\, K
 andar\, Mass-49\, Military Shadow\, Taring\nCategory: Death Metal\, Grindc
 ore\, Hardcore\, Metal\, Punk\nLink: https://www.tokyogigguide.com/index.p
 hp?option=com_jem&view=event&id=40510:viscera-infest-slight-slappers-kanda
 r-mass-49-military-shadow-taring&Itemid=1094\n
DTSTART:20260417T170000
DTEND:20260417T170000
LOCATION:Wild Side Tokyo\,B1\, 1-34-13 Shinjuku\, Shinjuku-ku\, Tokyo\,Shin
 juku
SUMMARY:GEKIKO FEST2026 (激昂祭2026): Viscera Infest\, Slight Slappers\, Kanda
 r\, Mass-49\, Military Shadow\, Taring
URL:https://www.tokyogigguide.com/index.php?option=com_jem&view=event&id=40
 510:viscera-infest-slight-slappers-kandar-mass-49-military-shadow-taring&I
 temid=1094
END:VEVENT
END:VCALENDAR
