BEGIN:VCALENDAR
VERSION:2.0
PRODID:-//104.152.168.27//NONSGML kigkonsult.se iCalcreator 2.20//
CALSCALE:GREGORIAN
METHOD:PUBLISH
X-WR-TIMEZONE:Asia/Tokyo
BEGIN:VEVENT
UID:event40447@Tokyo Gig Guide
DTSTAMP:20260424T184230Z
CATEGORIES:WTF?\, Experimental
DESCRIPTION:Hizumitoyugami [TAMURANMUSIC + AIsinger (Kuroimaba Yui x Kazehi
 to Seki)]\, Shun Momose x Sung Nam HAN\, Radio Ensembles Aiida\nCategory: 
 WTF?\, Experimental\nLink: https://www.tokyogigguide.com/index.php?option=
 com_jem&view=event&id=40447:hizumitoyugami-tamuranmusic-aisinger-kuroimaba
 -yui-x-kazehito-seki-shun-momose-x-sung-nam-han-radio-ensembles-aiida&Item
 id=1094\n
DTSTART:20260606T190000
DTEND:20260606T190000
LOCATION:Chitei\,Kita-Otsuka 1-14-6 B1\, Toshima-ku\, Tokyo\,Otsuka
SUMMARY:Hizumitoyugami [TAMURANMUSIC + AIsinger (Kuroimaba Yui x Kazehito S
 eki)]\, Shun Momose x Sung Nam HAN\, Radio Ensembles Aiida
URL:https://www.tokyogigguide.com/index.php?option=com_jem&view=event&id=40
 447:hizumitoyugami-tamuranmusic-aisinger-kuroimaba-yui-x-kazehito-seki-shu
 n-momose-x-sung-nam-han-radio-ensembles-aiida&Itemid=1094
END:VEVENT
END:VCALENDAR
