BEGIN:VCALENDAR
VERSION:2.0
PRODID:-//104.152.168.27//NONSGML kigkonsult.se iCalcreator 2.20//
CALSCALE:GREGORIAN
METHOD:PUBLISH
X-WR-TIMEZONE:Asia/Tokyo
BEGIN:VEVENT
UID:event40439@Tokyo Gig Guide
DTSTAMP:20260424T065606Z
CATEGORIES:Electro-Pop\, Performance\, Alternative\, Experimental\, Post-Ro
 ck
DESCRIPTION:Fallopian Disco Force\, HINOMARI\, YMS Soundsystem (弱虫俱楽部)\, ふた
 り\nCategory: Electro-Pop\, Performance\, Alternative\, Experimental\, Post
 -Rock\nLink: https://www.tokyogigguide.com/index.php?option=com_jem&view=e
 vent&id=40439:fallopian-disco-force-hinomari-yms-soundsystem&Itemid=1094\n
DTSTART:20260418T190000
DTEND:20260418T190000
LOCATION:Meets\,Minami-Otsuka 3-50-1\,Otsuka
SUMMARY:Fallopian Disco Force\, HINOMARI\, YMS Soundsystem (弱虫俱楽部)\, ふたり
URL:https://www.tokyogigguide.com/index.php?option=com_jem&view=event&id=40
 439:fallopian-disco-force-hinomari-yms-soundsystem&Itemid=1094
END:VEVENT
END:VCALENDAR
