BEGIN:VCALENDAR
VERSION:2.0
PRODID:-//104.152.168.27//NONSGML kigkonsult.se iCalcreator 2.20//
CALSCALE:GREGORIAN
METHOD:PUBLISH
X-WR-TIMEZONE:Asia/Tokyo
BEGIN:VEVENT
UID:event40423@Tokyo Gig Guide
DTSTAMP:20260421T092017Z
CATEGORIES:Avant garde\, Experimental\, Improvised\, World
DESCRIPTION:Rokugen Solo Performance\, Chan Yama x Yoko Kodama\, art-unit K
 ando\, Shinrakou\nCategory: Avant garde\, Experimental\, Improvised\, Worl
 d\nLink: https://www.tokyogigguide.com/index.php?option=com_jem&view=event
 &id=40423:live-rokugen-solo-performance&Itemid=1094\n
DTSTART:20260424T183000
DTEND:20260424T183000
LOCATION:Oriental Force\,#8 Nitto Build. B1\, Koenji-Minami 3-38-6\,Koenji
SUMMARY:Rokugen Solo Performance\, Chan Yama x Yoko Kodama\, art-unit Kando
 \, Shinrakou
URL:https://www.tokyogigguide.com/index.php?option=com_jem&view=event&id=40
 423:live-rokugen-solo-performance&Itemid=1094
END:VEVENT
END:VCALENDAR
