BEGIN:VCALENDAR
VERSION:2.0
PRODID:-//104.152.168.27//NONSGML kigkonsult.se iCalcreator 2.20//
CALSCALE:GREGORIAN
METHOD:PUBLISH
X-WR-TIMEZONE:Asia/Tokyo
BEGIN:VEVENT
UID:event40422@Tokyo Gig Guide
DTSTAMP:20260420T182046Z
CATEGORIES:Art-Pop\, Avant-pop\, DJ\, Electro-Pop\, Indie-Pop
DESCRIPTION:Ikiataribattari Boy\, Umesumi Futari-gumi\, pinchball devils\, 
 MAUDIE\, fat boy explosion\, DJ MR. BLACK\nCategory: Art-Pop\, Avant-pop\,
  DJ\, Electro-Pop\, Indie-Pop\nLink: https://www.tokyogigguide.com/index.p
 hp?option=com_jem&view=event&id=40422:live-ikiataribattari-boy-umesumi-fut
 ari-gumi-pinchball-devils-maudie-fat-boy-explosion-dj-mr-black&Itemid=1094
 \n
DTSTART:20260418T173000
DTEND:20260418T173000
LOCATION:Oriental Force\,#8 Nitto Build. B1\, Koenji-Minami 3-38-6\,Koenji
SUMMARY:Ikiataribattari Boy\, Umesumi Futari-gumi\, pinchball devils\, MAUD
 IE\, fat boy explosion\, DJ MR. BLACK
URL:https://www.tokyogigguide.com/index.php?option=com_jem&view=event&id=40
 422:live-ikiataribattari-boy-umesumi-futari-gumi-pinchball-devils-maudie-f
 at-boy-explosion-dj-mr-black&Itemid=1094
END:VEVENT
END:VCALENDAR
