BEGIN:VCALENDAR
VERSION:2.0
PRODID:-//104.152.168.27//NONSGML kigkonsult.se iCalcreator 2.20//
CALSCALE:GREGORIAN
METHOD:PUBLISH
X-WR-TIMEZONE:Asia/Tokyo
BEGIN:VEVENT
UID:event40411@Tokyo Gig Guide
DTSTAMP:20260423T215214Z
CATEGORIES:Blues\, Funk\, Jam\, R n B\, Soul
DESCRIPTION:Soul Kitchen Band Jam Session\nCategory: Blues\, Funk\, Jam\, R
  n B\, Soul\nLink: https://www.tokyogigguide.com/index.php?option=com_jem&
 view=event&id=40411:soul-kitchen-band-jam-session&Itemid=1094\n
DTSTART:20260421T190000
DTEND:20260421T190000
LOCATION:Love\, Peace and Soul Live Cafe\,Parfum Kyodo B1-C 1-5-6 Kyodo\, S
 etagaya-ku\, Tokyo\,Kyodo
SUMMARY:Soul Kitchen Band Jam Session
URL:https://www.tokyogigguide.com/index.php?option=com_jem&view=event&id=40
 411:soul-kitchen-band-jam-session&Itemid=1094
END:VEVENT
END:VCALENDAR
