BEGIN:VCALENDAR
VERSION:2.0
PRODID:-//104.152.168.27//NONSGML kigkonsult.se iCalcreator 2.20//
CALSCALE:GREGORIAN
METHOD:PUBLISH
X-WR-TIMEZONE:Asia/Tokyo
BEGIN:VEVENT
UID:event40410@Tokyo Gig Guide
DTSTAMP:20260422T171944Z
CATEGORIES:Funk\, Fusion\, Instrumental
DESCRIPTION:羽仁知治トリオ + 1 Funky & Melodious\nCategory: Funk\, Fusion\, Instru
 mental\nLink: https://www.tokyogigguide.com/index.php?option=com_jem&view=
 event&id=40410:1-funky-melodious&Itemid=1094\n
DTSTART:20260419T180000
DTEND:20260419T180000
LOCATION:Love\, Peace and Soul Live Cafe\,Parfum Kyodo B1-C 1-5-6 Kyodo\, S
 etagaya-ku\, Tokyo\,Kyodo
SUMMARY:羽仁知治トリオ + 1 Funky & Melodious
URL:https://www.tokyogigguide.com/index.php?option=com_jem&view=event&id=40
 410:1-funky-melodious&Itemid=1094
END:VEVENT
END:VCALENDAR
