BEGIN:VCALENDAR
VERSION:2.0
PRODID:-//104.152.168.27//NONSGML kigkonsult.se iCalcreator 2.20//
CALSCALE:GREGORIAN
METHOD:PUBLISH
X-WR-TIMEZONE:Asia/Tokyo
BEGIN:VEVENT
UID:event40389@Tokyo Gig Guide
DTSTAMP:20260420T182038Z
CATEGORIES:Ambient\, Electronic\, Experimental\, Industrial\, Noise
DESCRIPTION:Kyna (Seoul/Korea)\, Selfless Service\, Mitsuhisa Sakaguchi × K
 eiji Matsuoka\, BAY CITY ROLAZ\, DJ Seibutsu\nCategory: Ambient\, Electron
 ic\, Experimental\, Industrial\, Noise\nLink: https://www.tokyogigguide.co
 m/index.php?option=com_jem&view=event&id=40389:kyna-seoul-korea-selfless-s
 ervice-mitsuhisa-sakaguchi-keiji-matsuoka-bay-city-rolaz-dj-seibutsu&Itemi
 d=1094\n
DTSTART:20260427T193000
DTEND:20260427T193000
LOCATION:Forestlimit\,B1F Hatagaya KODA Bldg\, 2-8-15 Hatagaya\, Shibuyaku\
 ,Hatagaya
SUMMARY:Kyna (Seoul/Korea)\, Selfless Service\, Mitsuhisa Sakaguchi × Keiji
  Matsuoka\, BAY CITY ROLAZ\, DJ Seibutsu
URL:https://www.tokyogigguide.com/index.php?option=com_jem&view=event&id=40
 389:kyna-seoul-korea-selfless-service-mitsuhisa-sakaguchi-keiji-matsuoka-b
 ay-city-rolaz-dj-seibutsu&Itemid=1094
END:VEVENT
END:VCALENDAR
