BEGIN:VCALENDAR
VERSION:2.0
PRODID:-//104.152.168.27//NONSGML kigkonsult.se iCalcreator 2.20//
CALSCALE:GREGORIAN
METHOD:PUBLISH
X-WR-TIMEZONE:Asia/Tokyo
BEGIN:VEVENT
UID:event40388@Tokyo Gig Guide
DTSTAMP:20260420T182105Z
CATEGORIES:Industrial\, Electronic\, Noise\, Experimental\, Ambient
DESCRIPTION:Kyna & Kim ba-ul (Seoul/Korea)\, Keiji Matsuoka\, PRAYMATE\, Ta
 ro Aiko + VJ TASC\, sunagimo\, Selfless Service\nCategory: Industrial\, El
 ectronic\, Noise\, Experimental\, Ambient\nLink: https://www.tokyogigguide
 .com/index.php?option=com_jem&view=event&id=40388:kyna-kim-ba-ul-seoul-kor
 ea-keiji-matsuoka-praymate-taro-aiko-vj-tasc-sunagimo-selfless-service&Ite
 mid=1094\n
DTSTART:20260425T180000
DTEND:20260425T180000
LOCATION:Soup\,B1F Mitaka Building 3-9-10 Kami-Ochiai\,Shinjuku-ku\,Ochiai
SUMMARY:Kyna & Kim ba-ul (Seoul/Korea)\, Keiji Matsuoka\, PRAYMATE\, Taro A
 iko + VJ TASC\, sunagimo\, Selfless Service
URL:https://www.tokyogigguide.com/index.php?option=com_jem&view=event&id=40
 388:kyna-kim-ba-ul-seoul-korea-keiji-matsuoka-praymate-taro-aiko-vj-tasc-s
 unagimo-selfless-service&Itemid=1094
END:VEVENT
END:VCALENDAR
