BEGIN:VCALENDAR
VERSION:2.0
PRODID:-//104.152.168.27//NONSGML kigkonsult.se iCalcreator 2.20//
CALSCALE:GREGORIAN
METHOD:PUBLISH
X-WR-TIMEZONE:Asia/Tokyo
BEGIN:VEVENT
UID:event40386@Tokyo Gig Guide
DTSTAMP:20260420T132426Z
CATEGORIES:Improvised
DESCRIPTION:Eiichi Watanabe (g)\, CEO (g\, ds) and Jun Numata (g\, etc.)\nC
 ategory: Improvised\nLink: https://www.tokyogigguide.com/index.php?option=
 com_jem&view=event&id=40386:eiichi-watanabe-g-ceo-g-ds-and-jun-numata-g-et
 c&Itemid=1094\n
DTSTART:20260430T190000
DTEND:20260430T190000
LOCATION:cooljojo\,B1F\, 2-16-16 Yawata\, Ichikawa-shi\, Chiba\,Motoyawata
SUMMARY:Eiichi Watanabe (g)\, CEO (g\, ds) and Jun Numata (g\, etc.)
URL:https://www.tokyogigguide.com/index.php?option=com_jem&view=event&id=40
 386:eiichi-watanabe-g-ceo-g-ds-and-jun-numata-g-etc&Itemid=1094
END:VEVENT
END:VCALENDAR
