BEGIN:VCALENDAR
VERSION:2.0
PRODID:-//104.152.168.27//NONSGML kigkonsult.se iCalcreator 2.20//
CALSCALE:GREGORIAN
METHOD:PUBLISH
X-WR-TIMEZONE:Asia/Tokyo
BEGIN:VEVENT
UID:event40377@Tokyo Gig Guide
DTSTAMP:20260423T032438Z
CATEGORIES:Mixed Genre
DESCRIPTION:Entertainment Saeki Group\, Hoimi\, Wananabani-en\nCategory: Mi
 xed Genre\nLink: https://www.tokyogigguide.com/index.php?option=com_jem&vi
 ew=event&id=40377:entertainment-saeki-group-hoimi-wananabani-en&Itemid=109
 4\n
DTSTART:20260501T190000
DTEND:20260501T190000
LOCATION:Chikyuya\,Kunitachi-shi Higashi 1-16-13 B1 \,Kunitachi
SUMMARY:Entertainment Saeki Group\, Hoimi\, Wananabani-en
URL:https://www.tokyogigguide.com/index.php?option=com_jem&view=event&id=40
 377:entertainment-saeki-group-hoimi-wananabani-en&Itemid=1094
END:VEVENT
END:VCALENDAR
