BEGIN:VCALENDAR
VERSION:2.0
PRODID:-//104.152.168.27//NONSGML kigkonsult.se iCalcreator 2.20//
CALSCALE:GREGORIAN
METHOD:PUBLISH
X-WR-TIMEZONE:Asia/Tokyo
BEGIN:VEVENT
UID:event40345@Tokyo Gig Guide
DTSTAMP:20260420T222720Z
CATEGORIES:Alternative\, Electro\, Electronic\, Experimental\, New Wave
DESCRIPTION:LottoRPG (From Los Angeles)\, Fairy Marichel\,  Panzamast\, NA/
 DA\, Susumu komoto\nCategory: Alternative\, Electro\, Electronic\, Experim
 ental\, New Wave\nLink: https://www.tokyogigguide.com/index.php?option=com
 _jem&view=event&id=40345:live-lottorpg-from-los-angeles-fairy-marichel-pan
 zamast-na-da-susumu-komoto&Itemid=1094\n
DTSTART:20260427T183000
DTEND:20260427T183000
LOCATION:Oriental Force\,#8 Nitto Build. B1\, Koenji-Minami 3-38-6\,Koenji
SUMMARY:LottoRPG (From Los Angeles)\, Fairy Marichel\,  Panzamast\, NA/DA\,
  Susumu komoto
URL:https://www.tokyogigguide.com/index.php?option=com_jem&view=event&id=40
 345:live-lottorpg-from-los-angeles-fairy-marichel-panzamast-na-da-susumu-k
 omoto&Itemid=1094
END:VEVENT
END:VCALENDAR
