BEGIN:VCALENDAR
VERSION:2.0
PRODID:-//104.152.168.27//NONSGML kigkonsult.se iCalcreator 2.20//
CALSCALE:GREGORIAN
METHOD:PUBLISH
X-WR-TIMEZONE:Asia/Tokyo
BEGIN:VEVENT
UID:event40295@Tokyo Gig Guide
DTSTAMP:20260419T132657Z
CATEGORIES:Acoustic\, Improvised\, Instrumental\, Jazz
DESCRIPTION:新所沢トリオ\nCategory: Acoustic\, Improvised\, Instrumental\, Jazz\n
 Link: https://www.tokyogigguide.com/index.php?option=com_jem&view=event&id
 =40295:2026-03-23-00-10-08&Itemid=1094\n
DTSTART:20260417T183000
DTEND:20260417T183000
LOCATION:Buddy\,Nerima Asahigaoka 1-77-8 Futaba Hall B2F \,Ekoda
SUMMARY:新所沢トリオ
URL:https://www.tokyogigguide.com/index.php?option=com_jem&view=event&id=40
 295:2026-03-23-00-10-08&Itemid=1094
END:VEVENT
END:VCALENDAR
