BEGIN:VCALENDAR
VERSION:2.0
PRODID:-//104.152.168.27//NONSGML kigkonsult.se iCalcreator 2.20//
CALSCALE:GREGORIAN
METHOD:PUBLISH
X-WR-TIMEZONE:Asia/Tokyo
BEGIN:VEVENT
UID:event40236@Tokyo Gig Guide
DTSTAMP:20260422T083906Z
CATEGORIES:Jazz
DESCRIPTION:Fukuroku Atsushi (gt)\, Shuji Watanabe (ba)\, Yosuke Toki (drs)
 \nCategory: Jazz\nLink: https://www.tokyogigguide.com/index.php?option=com
 _jem&view=event&id=40236:fukuroku-atsushi-gt-shuji-watanabe-ba-yosuke-toki
 -drs&Itemid=1094\n
DTSTART:20260418T190000
DTEND:20260418T190000
LOCATION:POLARIS\,6-2-10 Minami-Aoyama\, Minato-ku\, Tokyo\,Minami-Aoyama
SUMMARY:Fukuroku Atsushi (gt)\, Shuji Watanabe (ba)\, Yosuke Toki (drs)
URL:https://www.tokyogigguide.com/index.php?option=com_jem&view=event&id=40
 236:fukuroku-atsushi-gt-shuji-watanabe-ba-yosuke-toki-drs&Itemid=1094
END:VEVENT
END:VCALENDAR
