BEGIN:VCALENDAR
VERSION:2.0
PRODID:-//104.152.168.27//NONSGML kigkonsult.se iCalcreator 2.20//
CALSCALE:GREGORIAN
METHOD:PUBLISH
X-WR-TIMEZONE:Asia/Tokyo
BEGIN:VEVENT
UID:event40184@Tokyo Gig Guide
DTSTAMP:20260421T031447Z
CATEGORIES:Electronic\, Experimental\, Improvised\, Noise\, Unclassifiable
DESCRIPTION:Sayaka Botanic\, Dana Ollestad\, okachiho\, Leo Okagawa\, DJ NI
 CO\nCategory: Electronic\, Experimental\, Improvised\, Noise\, Unclassifia
 ble\nLink: https://www.tokyogigguide.com/index.php?option=com_jem&view=eve
 nt&id=40184:a-new-perspective-zappak-label-showcase-05&Itemid=1094\n
DTSTART:20260517T183000
DTEND:20260517T183000
LOCATION:Soup\,B1F Mitaka Building 3-9-10 Kami-Ochiai\,Shinjuku-ku\,Ochiai
SUMMARY:Sayaka Botanic\, Dana Ollestad\, okachiho\, Leo Okagawa\, DJ NICO
URL:https://www.tokyogigguide.com/index.php?option=com_jem&view=event&id=40
 184:a-new-perspective-zappak-label-showcase-05&Itemid=1094
END:VEVENT
END:VCALENDAR
